BEGIN:VCALENDAR
VERSION:2.0
PRODID:GIGPRESS 2.0 WORDPRESS PLUGIN
CALSCALE:GREGORIAN
X-WR-TIMEZONE:Etc/GMT
METHOD:PUBLISH
BEGIN:VTIMEZONE
TZID:GMT
BEGIN:STANDARD
DTSTART:20071028T010000
TZOFFSETTO:+0000
TZOFFSETFROM:+0000
END:STANDARD
END:VTIMEZONE
BEGIN:VEVENT
SUMMARY:Kyla Brox at Bliuzo Naktys
DESCRIPTION:Price: €55. Notes: Duo performance All Ages
LOCATION:Bliuzo Naktys\, Lake Lūkstas Open-Air Festival Site\, Varniai\, LITHUANIA\, LT
UID:20260704T183000Z-371-alex@urban-angel.me.uk
URL:https://www.kylabrox.com/dates/
DTSTART;VALUE=DATE-TIME;TZID=GMT:20260704T183000Z
DTEND;VALUE=DATE-TIME;TZID=GMT:20260704T183000Z
DTSTAMP:20260425T125310Z
END:VEVENT
END:VCALENDAR